BEGIN:VCALENDAR
VERSION:2.0
PRODID:spatie/icalendar-generator
DESCRIPTION:Veranstaltungen von NABU Kreisverband Schwäbisch Hall
X-WR-CALDESC:Veranstaltungen von NABU Kreisverband Schwäbisch Hall
REFRESH-INTERVAL;VALUE=DURATION:PT1440M
X-PUBLISHED-TTL:PT1440M
BEGIN:VTIMEZONE
TZID:Etc/GMT+0
BEGIN:STANDARD
DTSTART:20231205T160000Z
TZOFFSETFROM:+0000
TZOFFSETTO:+0000
END:STANDARD
END:VTIMEZONE
BEGIN:VTIMEZONE
TZID:UTC
BEGIN:STANDARD
DTSTART:20250726T091617Z
TZOFFSETFROM:+0000
TZOFFSETTO:+0000
END:STANDARD
END:VTIMEZONE
BEGIN:VEVENT
UID:97-61
DTSTAMP:20260422T091617Z
SUMMARY:Schwäbisch Hall - Kirchberg: Sommerfest der NABU-Gruppe Schwäbisc
 h Hall
LOCATION:Das Sommerhaus am Sophienberg bei Kirchberg / Jagst nahe neuem Feu
 erwehrgerätehaus Hohenloher Straße Kirchberg / Jagst
ORGANIZER;CN=Uwe Knorr:MAILTO:uwe.sha@gmx.de
DTSTART;TZID=Etc/GMT+0:20240831T160000
DTEND;TZID=Etc/GMT+0:20240831T170000
X-ALT-DESC;FMTTYPE=TEXT/HTML:Das für den 3. August 2024 angekündigte Gart
 entreffen bei Familie Bock in Braunsbach kann dort leider nicht stattfinde
 n\, weil ein Leitungswasserschaden aufgetreten ist\, der das Haus für ein
 ige Monate unbewohnbar gemacht hat. Als Ersatz sind nun der folgende Termi
 n und Ort vorgesehen: [caption id=\"\" align=\"alignleft\" width=\"291\"] 
 Das Sommerhaus - Foto: Monique Staack[/caption] Geselliges Beisammensein b
 ei&amp;hellip\;
CATEGORIES:Schwäbisch Hall
URL;VALUE=URI:https://www.nabu-kreis-sha.de/veranstaltungskalender-nabu-lan
 dkreis-schwaebisch-hall/?mc_id=97&#038;vcal=97
END:VEVENT
END:VCALENDAR