BEGIN:VCALENDAR
VERSION:2.0
PRODID:spatie/icalendar-generator
DESCRIPTION:Veranstaltungen von NABU Kreisverband Schwäbisch Hall
X-WR-CALDESC:Veranstaltungen von NABU Kreisverband Schwäbisch Hall
REFRESH-INTERVAL;VALUE=DURATION:PT1440M
X-PUBLISHED-TTL:PT1440M
BEGIN:VTIMEZONE
TZID:Etc/GMT+0
BEGIN:STANDARD
DTSTART:20221019T100000Z
TZOFFSETFROM:+0000
TZOFFSETTO:+0000
END:STANDARD
END:VTIMEZONE
BEGIN:VTIMEZONE
TZID:UTC
BEGIN:STANDARD
DTSTART:20250727T160233Z
TZOFFSETFROM:+0000
TZOFFSETTO:+0000
END:STANDARD
END:VTIMEZONE
BEGIN:VEVENT
UID:28-27
DTSTAMP:20260423T160233Z
SUMMARY:Michelfeld - Mit dem NABU in den Streifleswald
LOCATION:
ORGANIZER;CN=admin:MAILTO:dominik-fischer1@gmx.net
DTSTART;TZID=Etc/GMT+0:20230716T100000
DTEND;TZID=Etc/GMT+0:20230716T130000
X-ALT-DESC;FMTTYPE=TEXT/HTML:Malerische Seen\, eingebettet zwischen Wald un
 d Wiesen – so präsentiert sich das Naherholungsgebiet Streifleswald bei
  Michelfeld. Weniger bekannt ist\, dass es viele Besonderheiten beherbergt
  wie seltene Libellenarten oder den interessanten Wiesenknopf-Ameisenbläu
 ling\, einen Schmetterling mit abenteuerlicher Entwicklungsgeschichte. Meh
 r darüber kann man auf einer Veranstaltung des NABU Schwäbisch Hall am S
 onntag\, dem 16. Juli erfahren. Peter Trka\,&amp;hellip\;
CATEGORIES:Schwäbisch Hall
URL;VALUE=URI:https://www.nabu-kreis-sha.de/veranstaltungskalender-nabu-lan
 dkreis-schwaebisch-hall/?mc_id=28&#038;vcal=28
END:VEVENT
END:VCALENDAR