BEGIN:VCALENDAR
VERSION:2.0
PRODID:spatie/icalendar-generator
DESCRIPTION:Veranstaltungen von NABU Kreisverband Schwäbisch Hall
X-WR-CALDESC:Veranstaltungen von NABU Kreisverband Schwäbisch Hall
REFRESH-INTERVAL;VALUE=DURATION:PT1440M
X-PUBLISHED-TTL:PT1440M
BEGIN:VTIMEZONE
TZID:Etc/GMT+0
BEGIN:STANDARD
DTSTART:20241008T140000Z
TZOFFSETFROM:+0000
TZOFFSETTO:+0000
END:STANDARD
END:VTIMEZONE
BEGIN:VTIMEZONE
TZID:UTC
BEGIN:STANDARD
DTSTART:20250727T160929Z
TZOFFSETFROM:+0000
TZOFFSETTO:+0000
END:STANDARD
END:VTIMEZONE
BEGIN:VEVENT
UID:154-136
DTSTAMP:20260423T160929Z
SUMMARY:Schwäbisch Hall - Heilpflanzen-Exkursion
LOCATION:Treffpunkt: Parkplatz bei Firma Philipps Sonderposten Kocherstraß
 e 7  SHA-Gelbingen
ORGANIZER;CN=Uwe Knorr:MAILTO:uwe.sha@gmx.de
DTSTART;TZID=Etc/GMT+0:20250705T140000
DTEND;TZID=Etc/GMT+0:20250705T150000
X-ALT-DESC;FMTTYPE=TEXT/HTML:Die Schafgarbe ist die Arzneipflanze des Jahre
 s 2025. Aber noch viele weitere Gewächse werden medizinisch genutzt. Dr. 
 Ulrich Breit von der Löwenapotheke in Schwäbisch Hall zeigt zusammen mit
  Martin Zorzi vom Umweltzentrum\, welche Schätze bei uns am Wegesrand wac
 hsen. Das Exkursionsziel wird kurzfristig ausgewählt und hängt von der W
 itterung und dem Zustand der Vegetation ab.
CATEGORIES:Schwäbisch Hall
URL;VALUE=URI:https://www.nabu-kreis-sha.de/veranstaltungskalender-nabu-lan
 dkreis-schwaebisch-hall/?mc_id=154&#038;vcal=154
END:VEVENT
END:VCALENDAR