BEGIN:VCALENDAR
VERSION:2.0
PRODID:spatie/icalendar-generator
DESCRIPTION:Veranstaltungen von NABU Kreisverband Schwäbisch Hall
X-WR-CALDESC:Veranstaltungen von NABU Kreisverband Schwäbisch Hall
REFRESH-INTERVAL;VALUE=DURATION:PT1440M
X-PUBLISHED-TTL:PT1440M
BEGIN:VTIMEZONE
TZID:Etc/GMT+0
BEGIN:STANDARD
DTSTART:20240617T160000Z
TZOFFSETFROM:+0000
TZOFFSETTO:+0000
END:STANDARD
END:VTIMEZONE
BEGIN:VTIMEZONE
TZID:UTC
BEGIN:STANDARD
DTSTART:20250727T160348Z
TZOFFSETFROM:+0000
TZOFFSETTO:+0000
END:STANDARD
END:VTIMEZONE
BEGIN:VEVENT
UID:114-99
DTSTAMP:20260423T160348Z
SUMMARY:Kirchberg - Müllsammelaktion
LOCATION:fabrik in Kirchberg/Jagst
ORGANIZER;CN=Frank Bräuninger:MAILTO:frank@futurebrain.de
DTSTART;TZID=Etc/GMT+0:20250314T160000
DTEND;TZID=Etc/GMT+0:20250314T180000
X-ALT-DESC;FMTTYPE=TEXT/HTML:Müllsammelaktion zusammen mit der SDW/Waldjug
 end\, der VHS und der Gemeinde Gottes. Treffpunkt: fabrik in Kirchberg\, 1
 6.00 bis 18.00 Uhr
CATEGORIES:Kirchberg
URL;VALUE=URI:https://www.nabu-kreis-sha.de/veranstaltungskalender-nabu-lan
 dkreis-schwaebisch-hall/?mc_id=114&#038;vcal=114
END:VEVENT
END:VCALENDAR